BEGIN:VCALENDAR
VERSION:2.0
METHOD:PUBLISH
PRODID:-//Accessible Web Design//My Calendar//http://www.joedolson.com//v2.4.14//EN';
BEGIN:VEVENT
UID:12-9
LOCATION:     
SUMMARY:Sexarbeiterin
DTSTAMP:20160315T190000
ORGANIZER;CN=R L:MAILTO:rl@mmx.at
DTSTART:20160315T190000
DTEND:20160315T200000
CATEGORIES:Kino
URL;VALUE=URI:
DESCRIPTION;ENCODING=QUOTED-PRINTABLE:Ort: Topkino, Rahlgasse 1, 1060 Wien,Kartenreservierung: Tel. 208 30 00D 2015, Regie: Sobo SwobodnikLena Morgenroth ist eine Sexarbeiterin, die ihren Beruf als Berufung auffasst und mit Engagement und Empathie für ihre KundInnen da ist. Sobo Swobodniks begleitet sie mit der Kamera im Alltag, bei der Sexarbeit  und wenn sie sich als Mitglied des 'Berufsverbandes erotische und sexuelle Dienstleistungen' für die Rechte von Sexarbeiterinnen einsetzt. Ein interessanter Einblick in selbstbestimmte Sexarbeit jenseits der Klischees.Anschließend Diskussion mit der Protagonistin Lena Morgenroth
END:VEVENT
END:VCALENDAR