BEGIN:VCALENDAR
VERSION:2.0
METHOD:PUBLISH
PRODID:-//Accessible Web Design//My Calendar//http://www.joedolson.com//v2.4.14//EN';
BEGIN:VEVENT
UID:20-6
LOCATION:     
SUMMARY:Prostitution oder Sexarbeit. Eine feministische Debatte, bei der die Fetzen fliegen.
DTSTAMP:20160331T203000
ORGANIZER;CN=R L:MAILTO:rl@mmx.at
DTSTART:20160331T203000
DTEND:20160331T220000
CATEGORIES:Gespräch
URL;VALUE=URI:
DESCRIPTION;ENCODING=QUOTED-PRINTABLE:Ort: Arena Bar, 1050 Wien, Margaretenstraße 117 EINTRITT FREIIn Kooperation mit Frauenhetz und LEFÖ
END:VEVENT
END:VCALENDAR