BEGIN:VCALENDAR
VERSION:2.0
METHOD:PUBLISH
PRODID:-//Accessible Web Design//My Calendar//http://www.joedolson.com//v2.4.14//EN';
BEGIN:VEVENT
UID:23-7
LOCATION:     
SUMMARY:Entwicklungen in der Sexarbeit
DTSTAMP:20160602T190000
ORGANIZER;CN=R L:MAILTO:rl@mmx.at
DTSTART:20160602T190000
DTEND:20160602T203000
CATEGORIES:Gespräch
URL;VALUE=URI:
DESCRIPTION;ENCODING=QUOTED-PRINTABLE:Ort: Aktionsradius Augarten, Gaussplatz 11, 1200 WienEINTRITT FREIFraences Funk : Entwicklungen in der Sexarbeit in Europa am Beispiel DeutschlandIn Kooperation mit LEFÖ
END:VEVENT
END:VCALENDAR