BEGIN:VCALENDAR
VERSION:2.0
METHOD:PUBLISH
PRODID:-//Accessible Web Design//My Calendar//http://www.joedolson.com//v2.4.14//EN';
BEGIN:VEVENT
UID:29-17
LOCATION:     
SUMMARY:Vorspiel
DTSTAMP:20160307T203000
ORGANIZER;CN=R L:MAILTO:rl@mmx.at
DTSTART:20160307T203000
DTEND:20160307T210000
CATEGORIES:Radiosendung
URL;VALUE=URI:
DESCRIPTION;ENCODING=QUOTED-PRINTABLE:Ort: LUSTWERKSTATT auf RADIO ORANGE 94.0Runde mit StudiogastIm Studiogespräch geben Alma Hadzibeganovic und Tina Leisch einen Ausblick, was bis einschließlich Juni 2016 auf diesem Sendeplatz zu erleben sein wird. Gleichzeitig geht es mit Aktivistin Christine Nagl und Sexworkerin Piroschka von Beginn an mitten ins Thema.&gt; Sendung nachhören
END:VEVENT
END:VCALENDAR