BEGIN:VCALENDAR
VERSION:2.0
METHOD:PUBLISH
PRODID:-//Accessible Web Design//My Calendar//http://www.joedolson.com//v2.4.14//EN';
BEGIN:VEVENT
UID:34-22
LOCATION:     
SUMMARY:Welche Politik braucht Sexarbeit?
DTSTAMP:20160411T203000
ORGANIZER;CN=R L:MAILTO:rl@mmx.at
DTSTART:20160411T203000
DTEND:20160411T210000
CATEGORIES:Radiosendung
URL;VALUE=URI:
DESCRIPTION;ENCODING=QUOTED-PRINTABLE:Ort: LUSTWERKSTATT auf RADIO ORANGE 94.0Interview mit Faika El-NagashiAls Abgeordnete zum Wiener Gemeinderat und Sprecherin der Wiener Grünen für Integration, Migration und Menschenrechte stellt sich Faika El-Nagashi allen Rufen nach einem Verbot von Sexarbeit in Österreich vehement entgegen. In Prostitutionsverboten sieht sie vor allem eine Gefährdung von Sexarbeiter*innen, ihr Konzept setzt ganz im Gegenteil auf Selbstermächtigung.&gt; Sendung nachhören
END:VEVENT
END:VCALENDAR