BEGIN:VCALENDAR
VERSION:2.0
METHOD:PUBLISH
PRODID:-//Accessible Web Design//My Calendar//http://www.joedolson.com//v2.4.14//EN';
BEGIN:VEVENT
UID:46-32
LOCATION:     
SUMMARY:Früher war alles anders
DTSTAMP:20160530T203000
ORGANIZER;CN=Herbert Gnauer:MAILTO:hg@no-na.net
DTSTART:20160530T203000
DTEND:20160530T210000
CATEGORIES:Radiosendung
URL;VALUE=URI:
DESCRIPTION;ENCODING=QUOTED-PRINTABLE:Ort: LUSTWERKSTATT auf RADIO ORANGE 94.0Interview mit einer ehemaligen BetreiberinLiane hat über Jahrzehnte mehrere Bordelle in Wien geführt, seit zweieinhalb Jahren ist sie in Pension. Im Skype-Interview beschreibt sie die aus ihrer Sicht durchwegs negativen Veränderungen der letzten Zeit: verschlechterte Rahmenbedingungen, rohere Sitten und gesunkene Preise.&gt; Sendung nachhören
END:VEVENT
END:VCALENDAR