BEGIN:VCALENDAR
VERSION:2.0
METHOD:PUBLISH
PRODID:-//Accessible Web Design//My Calendar//http://www.joedolson.com//v2.4.14//EN';
BEGIN:VEVENT
UID:67-46
LOCATION:     
SUMMARY:Prostitution wird nicht verschwinden
DTSTAMP:20170123T203000
ORGANIZER;CN=Herbert Gnauer:MAILTO:hg@no-na.net
DTSTART:20170123T203000
DTEND:20170123T210000
CATEGORIES:Radiosendung
URL;VALUE=URI:
DESCRIPTION;ENCODING=QUOTED-PRINTABLE:Ort: LUSTWERKSTATT auf RADIO ORANGE 94.0Katharina Beclin zur kriminologischen SichtKatharina Beclin forscht unter anderem zu Sexualkriminalität und Menschenhandel. Die größten Gefahren sieht sie in den Graubereichen und hält daher wenig davon, diese durch Verbote zu fördern. Weit mehr verspräche sie sich von verbesserten Lebens- und Arbeitsbedingungen für Sexarbeiter*innen.&gt; Sendung nachhören
END:VEVENT
END:VCALENDAR