BEGIN:VCALENDAR
VERSION:2.0
METHOD:PUBLISH
PRODID:-//Accessible Web Design//My Calendar//http://www.joedolson.com//v2.4.14//EN';
BEGIN:VEVENT
UID:68-47
LOCATION:     
SUMMARY:Sexualbegleitung - Besondere Bedürfnisse II
DTSTAMP:20170227T203000
ORGANIZER;CN=Herbert Gnauer:MAILTO:hg@no-na.net
DTSTART:20170227T203000
DTEND:20170227T210000
CATEGORIES:Radiosendung
URL;VALUE=URI:
DESCRIPTION;ENCODING=QUOTED-PRINTABLE:Ort: LUSTWERKSTATT auf RADIO ORANGE 94.0Sexualbegleiterin Adonia im TelefoninterviewMenschen mit Behinderung unterscheiden sich in vielem nicht von anderen, das gilt oft auch für ihre sexuellen Bedürfnisse. Doch die Partnersuche fällt meist schwer, ist manchmal ausgeschlossen. In diesen Fällen hilft Sexualbegleitung, dennoch an diesem ganz normalen Lebensbereich teilhaben zu können. Adonia, LIBIDA-Sexualbegleiterin der Fachstelle .hautnah., spricht über ihre Erfahrungen.&gt; Sendung nachhören
END:VEVENT
END:VCALENDAR