BEGIN:VCALENDAR
VERSION:2.0
METHOD:PUBLISH
PRODID:-//Accessible Web Design//My Calendar//http://www.joedolson.com//v2.4.14//EN';
BEGIN:VEVENT
UID:71-49
LOCATION:     
SUMMARY:Couragierte Beratung
DTSTAMP:20170605T203000
ORGANIZER;CN=Herbert Gnauer:MAILTO:hg@no-na.net
DTSTART:20170605T203000
DTEND:20170605T210000
CATEGORIES:Radiosendung
URL;VALUE=URI:
DESCRIPTION;ENCODING=QUOTED-PRINTABLE:Ort: LUSTWERKSTATT auf RADIO ORANGE 94.0Johannes Wahala über männliche SexarbeitJohannes Wahala ist Präsident der Österreichischen Gesellschaft für Sexualwissenschaften und Leiter der Beratungsstelle COURAGE. Letztere ist die einzige Anlaufstelle für männliche Sexarbeiter in Österreich. Unterstützung ist kaum zu finden, obwohl sie in dem Bereich dringend benötigt würde.&gt; Sendung nachhören
END:VEVENT
END:VCALENDAR