BEGIN:VCALENDAR
VERSION:2.0
METHOD:PUBLISH
PRODID:-//Accessible Web Design//My Calendar//http://www.joedolson.com//v2.4.14//EN';
BEGIN:VEVENT
UID:73-51
LOCATION:     
SUMMARY:Die andere Seite II
DTSTAMP:20170724T203000
ORGANIZER;CN=Herbert Gnauer:MAILTO:hg@no-na.net
DTSTART:20170724T203000
DTEND:20170724T210000
CATEGORIES:Radiosendung
URL;VALUE=URI:
DESCRIPTION;ENCODING=QUOTED-PRINTABLE:Ort: LUSTWERKSTATT auf RADIO ORANGE 94.0Sexarbeit aus Sicht eines KundenJosef konsumiert Sexarbeit seit seiner Jugend in wechselnder Frequenz. Aus seiner Sicht haben sich in den letzten Jahren so gut wie alle Aspekte verschlechtert, immer schwerer fällt es ihm, auf seine Kosten zu kommen. Doch solange er körperlich in der Lage dazu ist, mag er nicht darauf verzichten.&gt; Sendung nachhören
END:VEVENT
END:VCALENDAR