BEGIN:VCALENDAR
VERSION:2.0
METHOD:PUBLISH
PRODID:-//Accessible Web Design//My Calendar//http://www.joedolson.com//v2.4.14//EN';
BEGIN:VEVENT
UID:76-54
LOCATION:     
SUMMARY:Maiz – Partizipation und Selbstvertretung
DTSTAMP:20171225T203000
ORGANIZER;CN=Herbert Gnauer:MAILTO:hg@no-na.net
DTSTART:20171225T203000
DTEND:20171225T210000
CATEGORIES:Radiosendung
URL;VALUE=URI:
DESCRIPTION;ENCODING=QUOTED-PRINTABLE:Ort: LUSTWERKSTATT auf RADIO ORANGE 94.0Luzenir Caixeta und Melanie Hamen zur aktuellen SituationMitte der 1990er-Jahre wurde in Linz maiz als Selbstorganisation von Migratinnen aus Südamerika gegründet. Luzenir Caixeta und Melanie Hamen schildern aktuelle Aufgaben und Perspektiven.&gt; Sendung nachhören
END:VEVENT
END:VCALENDAR