BEGIN:VCALENDAR
VERSION:2.0
METHOD:PUBLISH
PRODID:-//Accessible Web Design//My Calendar//http://www.joedolson.com//v2.4.14//EN';
BEGIN:VEVENT
UID:32-20
LOCATION:     
SUMMARY:Sexarbeit in Österreich
DTSTAMP:20160328T203000
ORGANIZER;CN=R L:MAILTO:rl@mmx.at
DTSTART:20160328T203000
DTEND:20160328T210000
CATEGORIES:Radiosendung
URL;VALUE=URI:
DESCRIPTION;ENCODING=QUOTED-PRINTABLE:Ort: LUSTWERKSTATT auf RADIO ORANGE 94.0Studiogespräch mit Helga AmesbergerHelga Amesberger ist als Politikwissenschaftlerin unter anderem am Institut für Konfliktforschung tätig. In ihrer Studie beschäftigt sie sich mit der Situation von Sexarbeiter*innen in Österreich und hat diese mit jener in anderen Ländern verglichen. Jüngste Entwicklungen beurteilt sie sehr kritisch und warnt davor, die skandinavischen Länder zum Vorbild zu nehmen. Das ihrer Ansicht nach vernünftigste Modell sieht sie in Neuseeland erfolgreich verwirklicht: Die völlige Gleichstellung von Sexarbeit mit anderen Berufen.&gt; Sendung nachhören
END:VEVENT
END:VCALENDAR