BEGIN:VCALENDAR
VERSION:2.0
METHOD:PUBLISH
PRODID:-//Accessible Web Design//My Calendar//http://www.joedolson.com//v2.4.14//EN';
BEGIN:VEVENT
UID:33-21
LOCATION:     
SUMMARY:Stigma, Outing, Kämpfe
DTSTAMP:20160404T203000
ORGANIZER;CN=R L:MAILTO:rl@mmx.at
DTSTART:20160404T203000
DTEND:20160404T210000
CATEGORIES:Radiosendung
URL;VALUE=URI:
DESCRIPTION;ENCODING=QUOTED-PRINTABLE:Ort: LUSTWERKSTATT auf RADIO ORANGE 94.0Brigitte Obrist im Gespräch mit Tina LeischBrigitte Obrist war als Sexarbeiterin in der Schweiz tätig. Anschließend arbeitete sie für die Aids-Hilfe Schweiz und leitete das Projekt APiS. Als Aktivistin bemüht sie sich heute um Aufklärung und kämpft für die Rechte von Sexarbeiter*innen. Zu hören ist der gekürzte Mitschnitt einer Podiumsdiskussion, die sie am 11. März 2016 gemeinsam mit Tina Leisch in der Librería Utopía führte.&gt; Sendung nachhören
END:VEVENT
END:VCALENDAR