BEGIN:VCALENDAR
VERSION:2.0
METHOD:PUBLISH
PRODID:-//Accessible Web Design//My Calendar//http://www.joedolson.com//v2.4.14//EN';
BEGIN:VEVENT
UID:38-26
LOCATION:     
SUMMARY:Sinnloser Zwang
DTSTAMP:20160418T203000
ORGANIZER;CN=Herbert Gnauer:MAILTO:hg@no-na.net
DTSTART:20160418T203000
DTEND:20160418T210000
CATEGORIES:Radiosendung
URL;VALUE=URI:
DESCRIPTION;ENCODING=QUOTED-PRINTABLE:Ort: LUSTWERKSTATT auf RADIO ORANGE 94.0Interview mit Christian FialaChristian Fiala ist Gynäkologe und ärztlicher Leiter des Gynmed-Ambulatoriums in Wien. Die gesetzlich vorgeschriebene, regelmäßige Zwangsuntersuchung von Sexarbeiterinnen hält er für ethisch bedenklich, medizinisch sinnlos und letztlich sogar kontraproduktiv. Sinnvolle Maßnahmen müssen auf Freiwilligkeit beruhen, im uneingeschränkten Selbstbestimmungsrecht von Frauen sieht er eine unverzichtbare Voraussetzung.&gt; Sendung nachhören
END:VEVENT
END:VCALENDAR