BEGIN:VCALENDAR
VERSION:2.0
METHOD:PUBLISH
PRODID:-//Accessible Web Design//My Calendar//http://www.joedolson.com//v2.4.14//EN';
BEGIN:VEVENT
UID:59-38
LOCATION:     
SUMMARY:Menschenrechte sind für alle gültig
DTSTAMP:20160725T203000
ORGANIZER;CN=Herbert Gnauer:MAILTO:hg@no-na.net
DTSTART:20160725T203000
DTEND:20160725T210000
CATEGORIES:Radiosendung
URL;VALUE=URI:
DESCRIPTION;ENCODING=QUOTED-PRINTABLE:Ort: LUSTWERKSTATT auf RADIO ORANGE 94.0Eva-Maria Burger zur Sexwork-Policy von Amnesty InternationalAmnesty International hat jüngst ein Positionspapier zur Sexarbeit präsentiert. Eva-Maria Burger, Präsidentin von AI Österreich, erläutert, weshalb für diesen Bereich eine eigene Policy notwendig ist, wie sie erarbeitet wurde und auf welchen Erkenntnissen sie beruht.&gt; Sendung nachhören
END:VEVENT
END:VCALENDAR