BEGIN:VCALENDAR
VERSION:2.0
METHOD:PUBLISH
PRODID:-//Accessible Web Design//My Calendar//http://www.joedolson.com//v2.4.14//EN';
BEGIN:VEVENT
UID:63-42
LOCATION:     
SUMMARY:Eröffnung der Ausstellung SEX IN WIEN im Wienmuseum
DTSTAMP:20160914T183000
ORGANIZER;CN=R L:MAILTO:rl@mmx.at
DTSTART:20160914T183000
DTEND:20160914T193000
CATEGORIES:Ausstellung
URL;VALUE=URI:
DESCRIPTION;ENCODING=QUOTED-PRINTABLE:Ort: Wienmuseum, 1040 Wien, Karlsplatz 8Sex in Wien. Lust. Kontrolle. UngehorsamDauer der Ausstellung:15. September 2016 bis 22. Januar 2017
END:VEVENT
END:VCALENDAR