BEGIN:VCALENDAR
VERSION:2.0
METHOD:PUBLISH
PRODID:-//Accessible Web Design//My Calendar//http://www.joedolson.com//v2.4.14//EN';
BEGIN:VEVENT
UID:65-44
LOCATION:     
SUMMARY:Seitenwechsel
DTSTAMP:20161024T203000
ORGANIZER;CN=Herbert Gnauer:MAILTO:hg@no-na.net
DTSTART:20161024T203000
DTEND:20161024T210000
CATEGORIES:Radiosendung
URL;VALUE=URI:
DESCRIPTION;ENCODING=QUOTED-PRINTABLE:Ort: LUSTWERKSTATT auf RADIO ORANGE 94.0Keine alltägliche GeschichtePeter ist mit einer Sexarbeiterin liiert. Seit etwa anderthalb Jahren arbeiten beide gemeinsam daran, in Salzburg die Basis für eine sogenannte bürgerliche Existenz zu schaffen.&gt; Sendung nachhören
END:VEVENT
END:VCALENDAR