BEGIN:VCALENDAR
VERSION:2.0
METHOD:PUBLISH
PRODID:-//Accessible Web Design//My Calendar//http://www.joedolson.com//v2.4.14//EN';
BEGIN:VEVENT
UID:66-45
LOCATION:     
SUMMARY:Sexualbegleitung - Besondere Bedürfnisse I
DTSTAMP:20161128T203000
ORGANIZER;CN=Herbert Gnauer:MAILTO:hg@no-na.net
DTSTART:20161128T203000
DTEND:20161128T210000
CATEGORIES:Radiosendung
URL;VALUE=URI:
DESCRIPTION;ENCODING=QUOTED-PRINTABLE:Ort: LUSTWERKSTATT auf RADIO ORANGE 94.0Barbara Zoe Sammer im TelefoninterviewMenschen mit besonderen Bedürfnissen haben es oftmals nicht leicht, ihre ganz normalen sexuellen Bedürfnisse leben zu können. Seit 2009 widmet sich die Fachstelle .hautnah. unter anderem mit der von ihr angebotenen Libida-Sexualbegleitung den Themen rund um "Sexualität, Beziehung und Behinderung". In Kalsdorf bei Graz werden Sexualbegleiter*innen ausgebildet und auf Wunsch Kontakte zwischen ihnen und interessierten Kund*innen hergestellt.&gt; Sendung nachhören
END:VEVENT
END:VCALENDAR